BEGIN:VCALENDAR
VERSION:2.0
PRODID:-//hacksw/handcal//NONSGML v1.0//EN
BEGIN:VEVENT
DTSTART:20241202T193000Z
DTEND:20241202T203000Z
LOCATION:
ORGANIZER;CN=Jacqueline Pasdeloup:MAILTO:jacqueline@asso-supelec.org
SUMMARY:Réunion d'information Trajectoire
DESCRIPTION:\n
URL:https://association.centralesupelec-alumni.com/fr/event/reunion-d-information-trajectoire/2024/12/02/8459
BEGIN:VALARM
TRIGGER:-P0DT1H0M0S
ACTION:DISPLAY
END:VALARM
END:VEVENT
END:VCALENDAR