BEGIN:VCALENDAR
VERSION:2.0
PRODID:-//hacksw/handcal//NONSGML v1.0//EN
BEGIN:VEVENT
DTSTART:20241202T190000Z
DTEND:20241202T210000Z
LOCATION:Philharmonie de Paris \n221, Avenue Jean Jaurès \n75019 PARIS
ORGANIZER;CN=Jacqueline Pasdeloup - CSA Ile de France:MAILTO:jacqueline@asso-supelec.org
SUMMARY:Concert " Orchestra dell’Accademia Santa Cecilia " à la Philharmonie de Paris
DESCRIPTION:Crédit photo @ Ava du Parc\nGrande Salle Pierre Boulez, Philharmonie de Paris\nKlaus Mäkelä dirige l'Orchestre de Paris. Yunchan Lim , piano\nATTENTION \nDATE LIMITE D'INSCRIPTION : 7 NOVEMBRE...
URL:https://association.centralesupelec-alumni.com/fr/group/csa-ile-de-france/587/calendar/concert-orchestra-dell-accademia-santa-cecilia-a-la-philharmonie-de-paris/2024/12/02/8455
BEGIN:VALARM
TRIGGER:-P0DT1H0M0S
ACTION:DISPLAY
END:VALARM
END:VEVENT
END:VCALENDAR