BEGIN:VCALENDAR
VERSION:2.0
PRODID:-//hacksw/handcal//NONSGML v1.0//EN
BEGIN:VEVENT
DTSTART:20241202T133000Z
DTEND:20241202T150000Z
LOCATION:Musée de l'architecture et du patrimoine \n1, Place du Trocadéro et du 11 Novembre \n75016 PARIS
ORGANIZER;CN=Jacqueline Pasdeloup - CSA Ile de France:MAILTO:jacqueline@asso-supelec.org
SUMMARY:Exposition " Les grands Magasins ",  sous l'angle de l'architecture, à la cité de l’Architecture et du Patrimoine au Trocadéro
DESCRIPTION:\nCette exposition aborde la thématique de l’histoire des Grands Magasins, sous l’angle de l’architecture et ce, dans une vision territoriale et internationale.\nElle présentera les évolutions subies ...
URL:https://association.centralesupelec-alumni.com/fr/group/csa-ile-de-france/587/calendar/exposition-les-grands-magasins-sous-l-angle-de-l-architecture-a-la-cite-de-l-architecture-et-du-patrimoine-au-trocadero/2024/12/02/8454
BEGIN:VALARM
TRIGGER:-P0DT1H0M0S
ACTION:DISPLAY
END:VALARM
END:VEVENT
END:VCALENDAR