BEGIN:VCALENDAR
VERSION:2.0
PRODID:-//hacksw/handcal//NONSGML v1.0//EN
BEGIN:VEVENT
DTSTART:20241114T180000Z
DTEND:20241114T213000Z
LOCATION:Maison CentraleSupelec Alumni \n8, Rue Jean Goujon \n75008 PARIS
ORGANIZER;CN=Nita Hauchecorne - CentraleSupélec Numérique:MAILTO:nita.hauchecorne@gmail.com
SUMMARY:Règlement IA (AI Act) : Protéger ou Paralyser ? L'Intelligence Artificielle à la Croisée des Chemins
DESCRIPTION: ***** Inscriptions closes -> Voir liste d'attente à la fin du texte *****C'est avec un grand enthousiasme que nous vous invitons à participer à notre prochain dîner débat sur un sujet d'une actualité...
URL:https://association.centralesupelec-alumni.com/fr/group/centralesupelec-numerique/329/calendar/reglement-ia-ai-act-proteger-ou-paralyser-l-intelligence-artificielle-a-la-croisee-des-chemins/2024/11/14/8444
BEGIN:VALARM
TRIGGER:-P0DT1H0M0S
ACTION:DISPLAY
END:VALARM
END:VEVENT
END:VCALENDAR