BEGIN:VCALENDAR
VERSION:2.0
PRODID:-//hacksw/handcal//NONSGML v1.0//EN
BEGIN:VEVENT
DTSTART:20241207T184500Z
DTEND:20241207T213000Z
LOCATION:restaurant Postiche \n62, Rue Jean-Jacques Rousseau \n75001 PARIS
ORGANIZER;CN=Claude Bailly - Voile Centralienne et Supélec:MAILTO:g.claude.bailly@gmail.com
SUMMARY:Dîner annuel des voileux
DESCRIPTION:Pour t'inscrire tardivement, appelle moi directement au 0699 5550 10\nRetrouvons nous et partageons nos histoires et nos rêves de voile au dîner du samedi 7 décembre.Rendez vous à 19 h 45 au...
URL:https://association.centralesupelec-alumni.com/fr/group/voile-centralienne-et-supelec/345/calendar/diner-annuel-des-voileux/2024/12/07/8442
BEGIN:VALARM
TRIGGER:-P0DT1H0M0S
ACTION:DISPLAY
END:VALARM
END:VEVENT
END:VCALENDAR