BEGIN:VCALENDAR
VERSION:2.0
PRODID:-//hacksw/handcal//NONSGML v1.0//EN
BEGIN:VEVENT
DTSTART:20241113T174500Z
DTEND:20241113T210000Z
LOCATION:Maison ESTP  \n15, Rue Cortambert \n75116 PARIS
ORGANIZER;CN=Francis Gillet D'Auriac - Énergie Durable (CSA):MAILTO:energie.conseil.plus@gmail.com
SUMMARY:Un nucléaire durable pour les millénaires, le passage en phase industrielle du CEA :  réacteurs à neutrons rapides.
DESCRIPTION:Le groupe Energie Durable, en association avec l'ESTP, l'AIEN et EVOLEN vous invitent à assister à la conférence-débat  Un nucléaire durable pour les millénaires, le passage en phase industrielle du...
URL:https://association.centralesupelec-alumni.com/fr/group/energie-durable-csa/323/calendar/un-nucleaire-durable-pour-les-millenaires-le-passage-en-phase-industrielle-du-cea-reacteurs-a-neutrons-rapides/2024/11/13/8441
BEGIN:VALARM
TRIGGER:-P0DT1H0M0S
ACTION:DISPLAY
END:VALARM
END:VEVENT
END:VCALENDAR