BEGIN:VCALENDAR
VERSION:2.0
PRODID:-//hacksw/handcal//NONSGML v1.0//EN
BEGIN:VEVENT
DTSTART:20241113T170000Z
DTEND:20241113T183000Z
LOCATION:https://us02web.zoom.us/j/89290266472?pwd=WlNSYjBTT3FiL3FoMFdBNDVjUlIxQT09
ORGANIZER;CN=Arnaud Legris - CentraleSupélec Business Angels:MAILTO:legris.arnaud@gmail.com
SUMMARY:Entrepreneurship et Communication avec un focus sur les US - Franck Amiach (CSBA)
DESCRIPTION:Code d'accès du webinar 156109...
URL:https://association.centralesupelec-alumni.com/fr/group/centralesupelec-business-angels/319/calendar/entrepreneurship-et-communication-avec-un-focus-sur-les-us-franck-amiach-csba/2024/11/13/8434
BEGIN:VALARM
TRIGGER:-P0DT1H0M0S
ACTION:DISPLAY
END:VALARM
END:VEVENT
END:VCALENDAR