BEGIN:VCALENDAR
VERSION:2.0
PRODID:-//hacksw/handcal//NONSGML v1.0//EN
BEGIN:VEVENT
DTSTART:20241016T170000Z
DTEND:20241016T190000Z
LOCATION:Espace Gadzarts \n70, Rue Bossuet \n69006 LYON
ORGANIZER;CN=Jean-Christophe Strich - Repreneurs (CSA):MAILTO:jc.strich@free.fr
SUMMARY:CS Repreneurs à Lyon : Le parcours de la reprise d’entreprise pour l’entrepreneur individuel au CLENAM Lyon
DESCRIPTION:Chers camarades Repreneurs,\nCentraleSupelec Repreneurs vous informe de la tenue de la conférence suivante organisée par le CLENAM Lyon à Lyon sur le thème : Le parcours de la reprise d’entreprise...
URL:https://association.centralesupelec-alumni.com/fr/group/repreneurs-csa/331/calendar/cs-repreneurs-a-lyon-le-parcours-de-la-reprise-d-entreprise-pour-l-entrepreneur-individuel-au-clenam-lyon/2024/10/16/8432
BEGIN:VALARM
TRIGGER:-P0DT1H0M0S
ACTION:DISPLAY
END:VALARM
END:VEVENT
END:VCALENDAR