BEGIN:VCALENDAR
VERSION:2.0
PRODID:-//hacksw/handcal//NONSGML v1.0//EN
BEGIN:VEVENT
DTSTART:20241205T110000Z
DTEND:20241205T133000Z
LOCATION:Ecole Hôtelière Jean Drouant  \n20, Rue Médéric \n75017 PARIS
ORGANIZER;CN=Robert Buvat - CSA Ile de France:MAILTO:robbuvat@outlook.fr
SUMMARY:5 DÉCEMBRE 2024 : DÉJEUNER CONVIVIAL ANNUEL CSA ÎLE DE FRANCE
DESCRIPTION:\nChère Camarade, Cher Camarade,\n Le Groupe Régional CSA Île de France et l'équipe organisatrice de ce déjeuner convivial (Robert BUVAT (S 59) et François TOUZELET (S 59) comptent vivement sur ta...
URL:https://association.centralesupelec-alumni.com/fr/group/csa-ile-de-france/587/calendar/5-decembre-2024-dejeuner-convivial-annuel-csa-ile-de-france/2024/12/05/8430
BEGIN:VALARM
TRIGGER:-P0DT1H0M0S
ACTION:DISPLAY
END:VALARM
END:VEVENT
END:VCALENDAR