BEGIN:VCALENDAR
VERSION:2.0
PRODID:-//hacksw/handcal//NONSGML v1.0//EN
BEGIN:VEVENT
DTSTART:20241119T113000Z
DTEND:20241119T130000Z
LOCATION:
ORGANIZER;CN=Jacqueline Pasdeloup:MAILTO:jacqueline@asso-supelec.org
SUMMARY:Career Alumni | Comment quitter son entreprise ? | Session 2 : Comment négocier sa sortie de poste ?
DESCRIPTION:Webinaire | Comment négocier sa sortie de poste ...en préservant votre image de marque\nMardi 19 novembre 2024\nIl arrive un moment où la décision de quitter son entreprise devient inévitable. Que ce ...
URL:https://association.centralesupelec-alumni.com/fr/event/career-alumni-comment-quitter-son-entreprise-session-2-comment-negocier-sa-sortie-de-poste/2024/11/19/8429
BEGIN:VALARM
TRIGGER:-P0DT1H0M0S
ACTION:DISPLAY
END:VALARM
END:VEVENT
END:VCALENDAR