BEGIN:VCALENDAR
VERSION:2.0
PRODID:-//hacksw/handcal//NONSGML v1.0//EN
BEGIN:VEVENT
DTSTART:20241015T103000Z
DTEND:20241015T120000Z
LOCATION:
ORGANIZER;CN=Jacqueline Pasdeloup:MAILTO:jacqueline@asso-supelec.org
SUMMARY:Career Alumni | Comment quitter son entreprise ? | Session 1 : Insatisfaction, malaise ou souffrance, identifier pour mieux décider
DESCRIPTION:Webinaire | Comment quitter son entreprise ... satisfaction, malaise ou souffrance, identifier pour mieux décider\nMardi 15 octobre 2024\nComprendre sa relation au travail est fondamental avant de...
URL:https://association.centralesupelec-alumni.com/fr/event/career-alumni-comment-quitter-son-entreprise-session-1-insatisfaction-malaise-ou-souffrance-identifier-pour-mieux-decider/2024/10/15/8428
BEGIN:VALARM
TRIGGER:-P0DT1H0M0S
ACTION:DISPLAY
END:VALARM
END:VEVENT
END:VCALENDAR