BEGIN:VCALENDAR
VERSION:2.0
PRODID:-//hacksw/handcal//NONSGML v1.0//EN
BEGIN:VEVENT
DTSTART:20241125T083000Z
DTEND:20241125T113000Z
LOCATION:emlyon business school Paris \n15 Bd Diderot, 75012 Paris \n75012 Paris
ORGANIZER;CN=Jacqueline Pasdeloup:MAILTO:jacqueline@asso-supelec.org
SUMMARY:Career sprint | Atelier présentiel à Paris du 25 novembre 2024
DESCRIPTION:\nCareer sprint | Atelier présentiel Paris \nLundi 25 novembre de 9 h 30 à 12 h 30\nDu bilan de carrière à la prise de fonction, il n’est pas toujours facile de garder le cap dans un parcours de...
URL:https://association.centralesupelec-alumni.com/fr/event/career-sprint-atelier-presentiel-a-paris-du-25-novembre-2024/2024/11/25/8427
BEGIN:VALARM
TRIGGER:-P0DT1H0M0S
ACTION:DISPLAY
END:VALARM
END:VEVENT
END:VCALENDAR