BEGIN:VCALENDAR
VERSION:2.0
PRODID:-//hacksw/handcal//NONSGML v1.0//EN
BEGIN:VEVENT
DTSTART:20241129T083000Z
DTEND:20241129T113000Z
LOCATION:emlyon business school Lyon \n144, Avenue Jean Jaurès - Bâtiment C | 3eme étage Salle 111 \n69007 LYON
ORGANIZER;CN=Jacqueline Pasdeloup:MAILTO:jacqueline@asso-supelec.org
SUMMARY:Career sprint | Atelier présentiel à Lyon
DESCRIPTION:\nCareer sprint | Atelier présentiel Lyon \nVendredi 29 novembre de 9 h 30 à 12 h 30\nDu bilan de carrière à la prise de fonction, il n’est pas toujours facile de garder le cap dans un parcours de...
URL:https://association.centralesupelec-alumni.com/fr/event/career-sprint-atelier-presentiel-a-lyon/2024/11/29/8426
BEGIN:VALARM
TRIGGER:-P0DT1H0M0S
ACTION:DISPLAY
END:VALARM
END:VEVENT
END:VCALENDAR