BEGIN:VCALENDAR
VERSION:2.0
PRODID:-//hacksw/handcal//NONSGML v1.0//EN
BEGIN:VEVENT
DTSTART:20241128T173000Z
DTEND:20241128T200000Z
LOCATION:Maison CentraleSupélec Alumni \n8, Rue Jean Goujon \n75008 PARIS
ORGANIZER;CN=Catherine Gibert - CentraleSupelec Au Féminin (CSA):MAILTO:catherine.gibert.1997@centralesupelec-alumni.com
SUMMARY:Conférence Diversité et Innovation
DESCRIPTION:Le groupement CentraleSupélec au féminin vous invite à cette conférence animée par Delphine Luginbuhl et Claire Parizel ,  centraliennes-coach du collectif le 5ème élément.\nLa diversité et...
URL:https://association.centralesupelec-alumni.com/fr/group/centralesupelec-au-feminin-csa/73/calendar/conference-diversite-et-innovation/2024/11/28/8421
BEGIN:VALARM
TRIGGER:-P0DT1H0M0S
ACTION:DISPLAY
END:VALARM
END:VEVENT
END:VCALENDAR