BEGIN:VCALENDAR
VERSION:2.0
PRODID:-//hacksw/handcal//NONSGML v1.0//EN
BEGIN:VEVENT
DTSTART:20241017T160000Z
DTEND:20241017T190000Z
LOCATION:ecole centralesupelec \nrue joliot curie  \n91190 gif sur yvette
ORGANIZER;CN=Patrick Coppin:MAILTO:patrick.coppin@gmail.com
SUMMARY:De la « voix »   … à la « voie » du « dirigeant »
DESCRIPTION:De la « voix » … à la « voie » du « dirigeant » Conférence organisée par SYMPOSIUM la tribune des élèves de CentraleSupelec\nLes deux tiers des personnes interrogées dans le monde de l’entreprise...
URL:https://association.centralesupelec-alumni.com/fr/event/de-la-voix-a-la-voie-du-dirigeant/2024/10/17/8418
BEGIN:VALARM
TRIGGER:-P0DT1H0M0S
ACTION:DISPLAY
END:VALARM
END:VEVENT
END:VCALENDAR