BEGIN:VCALENDAR
VERSION:2.0
PRODID:-//hacksw/handcal//NONSGML v1.0//EN
BEGIN:VEVENT
DTSTART:20241017T153000Z
DTEND:20241017T170000Z
LOCATION:CentralSupélec Théatre Rousseau Bâtiment Bouygues \n3, Rue Joliot Curie \n91192 GIF-SUR-YVETTE
ORGANIZER;CN=Christian Duquesne - CSA Ile de France:MAILTO:christian-duquesne@wanadoo.fr
SUMMARY:De la « voix » … à la « voie » du « dirigeant »
DESCRIPTION:\nNous vous prions d'assister à la conférence organisée par SYMPOSIUM - Association organisant des conférences et des débats (sciences, économie, politique & culture) pour les élèves de l'école...
URL:https://association.centralesupelec-alumni.com/fr/group/csa-ile-de-france/587/calendar/de-la-voix-a-la-voie-du-dirigeant/2024/10/17/8416
BEGIN:VALARM
TRIGGER:-P0DT1H0M0S
ACTION:DISPLAY
END:VALARM
END:VEVENT
END:VCALENDAR