BEGIN:VCALENDAR
VERSION:2.0
PRODID:-//hacksw/handcal//NONSGML v1.0//EN
BEGIN:VEVENT
DTSTART:20241121T173000Z
DTEND:20241121T200000Z
LOCATION:Ecole Centrale Nantes \n1, Rue de la Noë \n44300 NANTES
ORGANIZER;CN=Guillaume Landru - Ouest-Atlantique (CSA):MAILTO:guillaume.landru@gmail.com
SUMMARY:Conférence IESF Pays de la Loire : Décarboner l’industrie cimentière et construire pour demain
DESCRIPTION:IESF Pays de la Loire vous propose une conférence surDécarboner l’industrie cimentière et construire pour demain.Le 21 Novembre à 19h à l'Ecole Centrale Nantes\nLa construction de bâtiments comme...
URL:https://association.centralesupelec-alumni.com/fr/group/ouest-atlantique-csa/297/calendar/conference-iesf-pays-de-la-loire-decarboner-l-industrie-cimentiere-et-construire-pour-demain/2024/11/21/8405
BEGIN:VALARM
TRIGGER:-P0DT1H0M0S
ACTION:DISPLAY
END:VALARM
END:VEVENT
END:VCALENDAR