BEGIN:VCALENDAR
VERSION:2.0
PRODID:-//hacksw/handcal//NONSGML v1.0//EN
BEGIN:VEVENT
DTSTART:20250110T160000Z
DTEND:20250110T200000Z
LOCATION:Parc des Expositions \nPlace de la Porte de Versailles \n75015 PARIS
ORGANIZER;CN=CentraleSupélec Alumni:MAILTO:csa-alumni@centralesupelec-alumni.com
SUMMARY:Baptême de plongée et expérience d'apnée - CSA x Salon de la plongée (COMPLET)
DESCRIPTION:\nCentraleSupélec Alumni est très heureux de renouveler son partenariat avec le Salon de la Plongée.Nous avons le plaisir de vous proposer cette offre exclusive :- 100 baptêmes de plongée- 30 places...
URL:https://association.centralesupelec-alumni.com/fr/event/bapteme-de-plongee-et-experience-d-apnee-csa-x-salon-de-la-plongee-complet/2025/01/10/8403
BEGIN:VALARM
TRIGGER:-P0DT1H0M0S
ACTION:DISPLAY
END:VALARM
END:VEVENT
END:VCALENDAR