BEGIN:VCALENDAR
VERSION:2.0
PRODID:-//hacksw/handcal//NONSGML v1.0//EN
BEGIN:VEVENT
DTSTART:20241008T170000Z
DTEND:20241008T193000Z
LOCATION:Pub The Queen Victoria \n1, Place aux Huiles \n13001 MARSEILLE
ORGANIZER;CN=Philippe Cabrit - Provence (CSA):MAILTO:philippe.cabrit@centralesupelec-alumni.com
SUMMARY:Afterwork / afterschool Centraliens Supélec à Marseille
DESCRIPTION:\nAfterwork / afterschool de rentrée à Marseille !\nViens réseauter dans la convivialité !\nViens nous retrouver après les cours ou le boulot tous les deuxièmes mardis du mois (hors coupure estivale) ...
URL:https://association.centralesupelec-alumni.com/fr/group/provence-csa/347/calendar/afterwork-afterschool-centraliens-supelec-a-marseille/2024/10/08/8395
BEGIN:VALARM
TRIGGER:-P0DT1H0M0S
ACTION:DISPLAY
END:VALARM
END:VEVENT
END:VCALENDAR