BEGIN:VCALENDAR
VERSION:2.0
PRODID:-//hacksw/handcal//NONSGML v1.0//EN
BEGIN:VEVENT
DTSTART:20241018T160000Z
DTEND:20241018T173000Z
LOCATION:Campus Metz \n2 Rue Edouard Belin \n57070 METZ
ORGANIZER;CN=Irina Jaubert - Économie Sociale & Solidaire (CSA):MAILTO:irina.jaubert@mailo.com
SUMMARY:Le tournant intellectuel et créatif de l'IA, ou le désert de nous-mêmes.**
DESCRIPTION:On parle de plus en plus d'Intelligence Artificielle (IA) avec l'essor des possibilités de traitements de données. Un seuil a été franchi avec l’apparition de l’IA générative dont le rôle n’est plus...
URL:https://association.centralesupelec-alumni.com/fr/group/economie-sociale-solidaire-csa/69/calendar/le-tournant-intellectuel-et-creatif-de-l-ia-ou-le-desert-de-nous-memes/2024/10/18/8393
BEGIN:VALARM
TRIGGER:-P0DT1H0M0S
ACTION:DISPLAY
END:VALARM
END:VEVENT
END:VCALENDAR