BEGIN:VCALENDAR
VERSION:2.0
PRODID:-//hacksw/handcal//NONSGML v1.0//EN
BEGIN:VEVENT
DTSTART:20241015T120000Z
DTEND:20241015T150000Z
LOCATION:Maison CentraleSupélec - 6e étage \n8, rue Jean Goujon \n75008 PARIS
ORGANIZER;CN=Jacqueline Pasdeloup - CSA Ile de France:MAILTO:jacqueline@asso-supelec.org
SUMMARY:Réunion du club photo numérique
DESCRIPTION:\nLe club photo numérique de CSA île de France réunit des amateurs ayant envie de partager leur passion pour la photo.\nLes réunions ont lieu au 8 rue Jean Gougon ou sur le terrain, pour des séances...
URL:https://association.centralesupelec-alumni.com/fr/group/csa-ile-de-france/587/calendar/reunion-du-club-photo-numerique/2024/10/15/8392
BEGIN:VALARM
TRIGGER:-P0DT1H0M0S
ACTION:DISPLAY
END:VALARM
END:VEVENT
END:VCALENDAR