BEGIN:VCALENDAR
VERSION:2.0
PRODID:-//hacksw/handcal//NONSGML v1.0//EN
BEGIN:VEVENT
DTSTART:20241017T080000Z
DTEND:20241017T143000Z
LOCATION:gare Lardy \nPlace de la Gare \n91510 LARDY
ORGANIZER;CN=Jean-Louis Pallandre - CSA Ile de France:MAILTO:jean-louis.pallandre@wanadoo.fr
SUMMARY:Randonnée Lardy-Chamarande le jeudi 17 octobre
DESCRIPTION:Randonnée Lardy-Chamarande le jeudi 17 octobreRandonnée pédestre de 15km en boucle. 260m de dénivelé positif partagé entre le matin et l’après-midi. Départ et arrivée : gare RER C Lardy. Possibilité...
URL:https://association.centralesupelec-alumni.com/fr/group/csa-ile-de-france/587/calendar/randonnee-lardy-chamarande-le-jeudi-17-octobre/2024/10/17/8386
BEGIN:VALARM
TRIGGER:-P0DT1H0M0S
ACTION:DISPLAY
END:VALARM
END:VEVENT
END:VCALENDAR