BEGIN:VCALENDAR
VERSION:2.0
PRODID:-//hacksw/handcal//NONSGML v1.0//EN
BEGIN:VEVENT
DTSTART:20241107T084000Z
DTEND:20241107T160000Z
LOCATION:Musée  du Régiment des Cosaques de sa Majesté \n12, Rue Saint-Guillaume \n92400 COURBEVOIE
ORGANIZER;CN=Régis Langlois - CSA Ile de France:MAILTO:regis.langlois.1975@asso-supelec.org
SUMMARY:Courbevoie - Visite du musée du Régiment des Cosaques de Sa Majesté et  visite du musée de la Mémoire de l’Electricité, du Gaz et de l’Eclairage public
DESCRIPTION:Invitation pour la journée du 7 novembre \n   \nChère Camarade, Cher Camarade,Pour cette journée, nous vous proposons, le matin, la visite du musée du Régiment des cosaques de Sa Majesté et...
URL:https://association.centralesupelec-alumni.com/fr/group/csa-ile-de-france/587/calendar/courbevoie-visite-du-musee-du-regiment-des-cosaques-de-sa-majeste-et-visite-du-musee-de-la-memoire-de-l-electricite-du-gaz-et-de-l-eclairage-public/2024/11/07/8385
BEGIN:VALARM
TRIGGER:-P0DT1H0M0S
ACTION:DISPLAY
END:VALARM
END:VEVENT
END:VCALENDAR