BEGIN:VCALENDAR
VERSION:2.0
PRODID:-//hacksw/handcal//NONSGML v1.0//EN
BEGIN:VEVENT
DTSTART:20241017T173000Z
DTEND:20241017T210000Z
LOCATION:King's Head Pub \n10, Stafford Street \nW1S 4RX LONDON
ORGANIZER;CN=Christophe Wakim - Grande-Bretagne (CSA):MAILTO:christophe.wakim@gmail.com
SUMMARY:CentraleSupélec Alumni Grande-Bretagne: soirée du 17 octobre 2024 au Pub Kings's Head (Mayfair / Green Park)
DESCRIPTION:Camarade Supélec, Camarade Centralien(ne), ou Camarade CentraleSupélec,Rendez-vous jeudi 17 octobre 2024, à partir de 18:30, à Mayfair, pour une soirée CSA GB Pub, auKing's Head10 Stafford StreetW1S...
URL:https://association.centralesupelec-alumni.com/fr/group/grande-bretagne-csa/265/calendar/centralesupelec-alumni-grande-bretagne-soiree-du-17-octobre-2024-au-pub-kings-s-head-mayfair-green-park/2024/10/17/8384
BEGIN:VALARM
TRIGGER:-P0DT1H0M0S
ACTION:DISPLAY
END:VALARM
END:VEVENT
END:VCALENDAR