BEGIN:VCALENDAR
VERSION:2.0
PRODID:-//hacksw/handcal//NONSGML v1.0//EN
BEGIN:VEVENT
DTSTART:20241009T170000Z
DTEND:20241009T200000Z
LOCATION:
ORGANIZER;CN=Jérome Mauduit - Groupe Contact:MAILTO:jeromemauduit@gmail.com
SUMMARY:Atelier de la transformation d'entreprise : Avance dans tes réflexions sur la transformation de ton entreprise
DESCRIPTION:Cher camarade,Si tu te reconnais dans les trois affirmations suivantes …•Je suis directement impliqué dans la transformation de mon entreprise.•Je suis confronté à des questions ou des défis à relever...
URL:https://association.centralesupelec-alumni.com/fr/group/groupe-contact/468/calendar/atelier-de-la-transformation-d-entreprise-avance-dans-tes-reflexions-sur-la-transformation-de-ton-entreprise/2024/10/09/8378
BEGIN:VALARM
TRIGGER:-P0DT1H0M0S
ACTION:DISPLAY
END:VALARM
END:VEVENT
END:VCALENDAR