BEGIN:VCALENDAR
VERSION:2.0
PRODID:-//hacksw/handcal//NONSGML v1.0//EN
BEGIN:VEVENT
DTSTART:20241017T170000Z
DTEND:20241017T200000Z
LOCATION:Maison CentraleSupelec Alumni \n8, Rue Jean Goujon \n75008 PARIS
ORGANIZER;CN=Nita Hauchecorne - CentraleSupélec Numérique:MAILTO:nita.hauchecorne@gmail.com
SUMMARY:Afterwork 'Tech' #1 à la maison CentraleSupélec
DESCRIPTION:Nous sommes nombreux à évoluer aujourd'hui en startups/scale-ups, dans des "Big Tech" ou des\nlaboratoires d’innovation de grands groupes, et pourtant aucun évènement ne nous permet de nous retrouver ...
URL:https://association.centralesupelec-alumni.com/fr/group/centralesupelec-numerique/329/calendar/afterwork-tech-1-a-la-maison-centralesupelec/2024/10/17/8374
BEGIN:VALARM
TRIGGER:-P0DT1H0M0S
ACTION:DISPLAY
END:VALARM
END:VEVENT
END:VCALENDAR