BEGIN:VCALENDAR
VERSION:2.0
PRODID:-//hacksw/handcal//NONSGML v1.0//EN
BEGIN:VEVENT
DTSTART:20241016T163000Z
DTEND:20241021T183000Z
LOCATION:Levain Le Vin \n83, Rue du Faubourg Saint-Martin \n75010 PARIS
ORGANIZER;CN=Guy Delcroix - Promotion ECP 1973:MAILTO:guy.delcroix@wanadoo.fr
SUMMARY:Apéritif Dinatoire du 16 octobre 2024
DESCRIPTION:Cher ami, chère amie, Tu t’es inscrit à la soirée théâtrale « Le Cercle des Poètes disparus » le 16 Octobre prochain. Comme convenu, nous te proposons de nous retrouver avant la représentation pour un...
URL:https://association.centralesupelec-alumni.com/fr/group/promotion-ecp-1973/159/calendar/aperitif-dinatoire-du-16-octobre-2024/2024/10/16/8366
BEGIN:VALARM
TRIGGER:-P0DT1H0M0S
ACTION:DISPLAY
END:VALARM
END:VEVENT
END:VCALENDAR