BEGIN:VCALENDAR
VERSION:2.0
PRODID:-//hacksw/handcal//NONSGML v1.0//EN
BEGIN:VEVENT
DTSTART:20241008T170000Z
DTEND:20241008T190000Z
LOCATION:Université Paris-Dauphine PSL \nPlace du Maréchal de Lattre de Tassigny
ORGANIZER;CN=Jean-Christophe Strich - Repreneurs (CSA):MAILTO:jc.strich@free.fr
SUMMARY:CS Repreneurs :  Comment optimiser son patrimoine via une holding patrimoniale ?
DESCRIPTION:Chers camarades Repreneurs,\nCentraleSupelec Repreneurs vous informe de la tenue d'une conférence sur le thème : Comment optimiser son patrimoine via une holding patrimoniale ?le Mardi 8 octobre à...
URL:https://association.centralesupelec-alumni.com/fr/group/repreneurs-csa/331/calendar/cs-repreneurs-comment-optimiser-son-patrimoine-via-une-holding-patrimoniale/2024/10/08/8364
BEGIN:VALARM
TRIGGER:-P0DT1H0M0S
ACTION:DISPLAY
END:VALARM
END:VEVENT
END:VCALENDAR