BEGIN:VCALENDAR
VERSION:2.0
PRODID:-//hacksw/handcal//NONSGML v1.0//EN
BEGIN:VEVENT
DTSTART:20241014T160000Z
DTEND:20241014T180000Z
LOCATION:CLENAM Paris \n9b, Avenue d'Iéna \n75116 PARIS
ORGANIZER;CN=Jean-Christophe Strich - Repreneurs (CSA):MAILTO:jc.strich@free.fr
SUMMARY:CS Repreneurs : 239ème  Réunion d'information CLENAM / C.R.A
DESCRIPTION:Chers camarades Repreneurs,\nCentraleSupelec Repreneurs vous informe de la tenue de la 239ème  Réunion d'information CLENAM / C.R.Ale Lundi 14 octobre 2024de 18h à 20hCette réunion est ouverte aux...
URL:https://association.centralesupelec-alumni.com/fr/group/repreneurs-csa/331/calendar/cs-repreneurs-239eme-reunion-d-information-clenam-c-r-a/2024/10/14/8363
BEGIN:VALARM
TRIGGER:-P0DT1H0M0S
ACTION:DISPLAY
END:VALARM
END:VEVENT
END:VCALENDAR