BEGIN:VCALENDAR
VERSION:2.0
PRODID:-//hacksw/handcal//NONSGML v1.0//EN
BEGIN:VEVENT
DTSTART:20241007T170000Z
DTEND:20241007T200000Z
LOCATION:Mashup Nantes \n63, Boulevard de la Prairie au Duc \n44200 NANTES
ORGANIZER;CN=Stéphane Aubet - Ouest-Atlantique (CSA):MAILTO:stephane@aubet.com
SUMMARY:Echanges&Réseaux : L'hydrogène Energie / comment bâtir une société durable et sobre en carbone ?
DESCRIPTION:Echanges&Réseaux vous propose une nouvelle conférence \nle Lundi 7 Octobre à  19hL'hydrogène Energie / comment bâtir une société durable et sobre en carbone. ? Après un rapide rappel sur l'histoire et...
URL:https://association.centralesupelec-alumni.com/fr/group/ouest-atlantique-csa/297/calendar/echanges-reseaux-l-hydrogene-energie-comment-batir-une-societe-durable-et-sobre-en-carbone/2024/10/07/8360
BEGIN:VALARM
TRIGGER:-P0DT1H0M0S
ACTION:DISPLAY
END:VALARM
END:VEVENT
END:VCALENDAR