BEGIN:VCALENDAR
VERSION:2.0
PRODID:-//hacksw/handcal//NONSGML v1.0//EN
BEGIN:VEVENT
DTSTART:20241013T080000Z
DTEND:20241013T140000Z
LOCATION:Rochefort-en-Terre \n56220 ROCHEFORT-EN-TERRE
ORGANIZER;CN=Guillaume Landru - Ouest-Atlantique (CSA):MAILTO:guillaume.landru@gmail.com
SUMMARY:Rando autour de Rochefort-en-Terre
DESCRIPTION:Bonjour,\nVoici quelques détails concernant cette rando :RDV au niveau du port à 10h au parking de l'Aff à l 'entrée de la Gacilly, à  gauche après avoir traversé le pont sur l 'Aff en venant de Redon...
URL:https://association.centralesupelec-alumni.com/fr/group/ouest-atlantique-csa/297/calendar/rando-autour-de-rochefort-en-terre/2024/10/13/8357
BEGIN:VALARM
TRIGGER:-P0DT1H0M0S
ACTION:DISPLAY
END:VALARM
END:VEVENT
END:VCALENDAR