BEGIN:VCALENDAR
VERSION:2.0
PRODID:-//hacksw/handcal//NONSGML v1.0//EN
BEGIN:VEVENT
DTSTART:20241003T163000Z
DTEND:20241003T173000Z
LOCATION:Bistro Delorme \n1, Place Delorme \n44000 NANTES
ORGANIZER;CN=Guillaume Landru - Ouest-Atlantique (CSA):MAILTO:guillaume.landru@gmail.com
SUMMARY:After work CentraleSupélec Ouest-Atlantique - jeudi 3 octobre
DESCRIPTION:Bonjour,\nNous vous proposons de nous retrouver à un "After work" jeudi 3 octobre au "Bistrot Delorme" 1 place Delorme à Nantes pour passer un moment de convivialité et de partage.C'est également une ...
URL:https://association.centralesupelec-alumni.com/fr/group/ouest-atlantique-csa/297/calendar/after-work-centralesupelec-ouest-atlantique-jeudi-3-octobre/2024/10/03/8354
BEGIN:VALARM
TRIGGER:-P0DT1H0M0S
ACTION:DISPLAY
END:VALARM
END:VEVENT
END:VCALENDAR