BEGIN:VCALENDAR
VERSION:2.0
PRODID:-//hacksw/handcal//NONSGML v1.0//EN
BEGIN:VEVENT
DTSTART:20241017T103000Z
DTEND:20241017T113000Z
LOCATION:Zio Gino \n4, Avenue du Saint-Laurent \n44800 SAINT-HERBLAIN
ORGANIZER;CN=Guillaume Landru - Ouest-Atlantique (CSA):MAILTO:guillaume.landru@gmail.com
SUMMARY:Rencontres & Restos CSOA sur Nantes Ouest - jeudi 17 octobre 2024
DESCRIPTION:Bonjour,Notre prochaine "Rencontres & Restos" aura lieu sur Nantes Ouest le jeudi 17 octobre midi chez Zio Gino à Atlantis avec pizzas et autres spécialités italiennes.Nous vous y accueillerons à...
URL:https://association.centralesupelec-alumni.com/fr/group/ouest-atlantique-csa/297/calendar/rencontres-restos-csoa-sur-nantes-ouest-jeudi-17-octobre-2024/2024/10/17/8352
BEGIN:VALARM
TRIGGER:-P0DT1H0M0S
ACTION:DISPLAY
END:VALARM
END:VEVENT
END:VCALENDAR