BEGIN:VCALENDAR
VERSION:2.0
PRODID:-//hacksw/handcal//NONSGML v1.0//EN
BEGIN:VEVENT
DTSTART:20241217T173000Z
DTEND:20241217T203000Z
LOCATION:Maison CentraleSupélec \n8, Rue Jean Goujon \n75008 PARIS
ORGANIZER;CN=CentraleSupélec Alumni:MAILTO:csa-alumni@centralesupelec-alumni.com
SUMMARY:Afterwork Spécial "Fin d'année" :xmas_tree::sparkles:
DESCRIPTION:\nLe troisième mardi de chaque mois, rejoignez-nous pour notre afterwork !Cette soirée est ouverte à tous les diplômés de la CACCS (Confédération des Associations Centraliennes et...
URL:https://association.centralesupelec-alumni.com/fr/event/afterwork-special-fin-d-annee-xmas-tree-sparkles/2024/12/17/8351
BEGIN:VALARM
TRIGGER:-P0DT1H0M0S
ACTION:DISPLAY
END:VALARM
END:VEVENT
END:VCALENDAR