BEGIN:VCALENDAR
VERSION:2.0
PRODID:-//hacksw/handcal//NONSGML v1.0//EN
BEGIN:VEVENT
DTSTART:20241019T071500Z
DTEND:20241019T100000Z
LOCATION:Aérocampus Lastresnes \n1, Route de Cénac \n33360 LATRESNE
ORGANIZER;CN=Hélène Rinn:MAILTO:hjc.rinn@mailo.fr
SUMMARY:Visite de l'Aérocampus à Latresnes (Groupe Aquitaine)
DESCRIPTION:Centraliens et Supélec en Aquitaine vous donne rendez-vous le SAMEDI 19 OCTOBRE à 9h15 pour visiter l’Aérocampus de Latresnes, espace dédié aux Métiers et aux Qualifications d’Excellence pour les...
URL:https://association.centralesupelec-alumni.com/fr/event/visite-de-l-aerocampus-a-latresnes-groupe-aquitaine/2024/10/19/8349
BEGIN:VALARM
TRIGGER:-P0DT1H0M0S
ACTION:DISPLAY
END:VALARM
END:VEVENT
END:VCALENDAR