BEGIN:VCALENDAR
VERSION:2.0
PRODID:-//hacksw/handcal//NONSGML v1.0//EN
BEGIN:VEVENT
DTSTART:20241008T140000Z
DTEND:20241008T153000Z
LOCATION:Envie Rhône-Alpes \n43, Allée du Mens \n69100 VILLEURBANNE
ORGANIZER;CN=David Tavoularis - Lyon (CSA):MAILTO:david.tavoularis@mycom-osi.com
SUMMARY:Visite d’Envie Rhône-Alpes
DESCRIPTION: Chère camarade, cher camarade,Notre camarade, Guido Locatelli (93), nous invite à découvrir le site industriel d’Envie Rhône-Alpes de Villeurbanne.Envie Rhône-Alpes est un groupe d'entreprises...
URL:https://association.centralesupelec-alumni.com/fr/group/lyon-csa/299/calendar/visite-d-envie-rhone-alpes/2024/10/08/8347
BEGIN:VALARM
TRIGGER:-P0DT1H0M0S
ACTION:DISPLAY
END:VALARM
END:VEVENT
END:VCALENDAR