BEGIN:VCALENDAR
VERSION:2.0
PRODID:-//hacksw/handcal//NONSGML v1.0//EN
BEGIN:VEVENT
DTSTART:20241016T165000Z
DTEND:20241016T193000Z
LOCATION:Restaurant Vatel \n8, Rue Duhamel \n69002 LYON
ORGANIZER;CN=David Tavoularis - Lyon (CSA):MAILTO:david.tavoularis@mycom-osi.com
SUMMARY:[Soirée Business] Révéler notre potentiel de leadership, développer nos performances collectives avec l'élément humain
DESCRIPTION:Envie de découvrir…\n- Comment développer son potentiel de leadership ?\n- Comment rester serein en toutes circonstances, tout en s’affirmant mieux dans le travail en équipe ?\n- En quoi l’ouverture, ...
URL:https://association.centralesupelec-alumni.com/fr/group/lyon-csa/299/calendar/-soiree-business-reveler-notre-potentiel-de-leadership-developper-nos-performances-collectives-avec-l-element-humain/2024/10/16/8342
BEGIN:VALARM
TRIGGER:-P0DT1H0M0S
ACTION:DISPLAY
END:VALARM
END:VEVENT
END:VCALENDAR