BEGIN:VCALENDAR
VERSION:2.0
PRODID:-//hacksw/handcal//NONSGML v1.0//EN
BEGIN:VEVENT
DTSTART:20241009T164500Z
DTEND:20241009T190000Z
LOCATION:Maison des Centraliens - Salon Blériot Eiffel \n8, Rue Jean Goujon \n75008 PARIS
ORGANIZER;CN=Claire Delalande - Transport et Mobilité (CSA):MAILTO:claire.delalande@centraliens.net
SUMMARY:Conférence : La décarbonation du transport urbain, le cas de la flotte bus du réseau parisien
DESCRIPTION:La décarbonation du transport urbain est engagée par la RATP et Ile-de-France Mobilités depuis 2015. Un plan de de conversion de la flotte bus a été développé sur différents axes technologiques,...
URL:https://association.centralesupelec-alumni.com/fr/group/transport-et-mobilite-csa/337/calendar/conference-la-decarbonation-du-transport-urbain-le-cas-de-la-flotte-bus-du-reseau-parisien/2024/10/09/8339
BEGIN:VALARM
TRIGGER:-P0DT1H0M0S
ACTION:DISPLAY
END:VALARM
END:VEVENT
END:VCALENDAR