BEGIN:VCALENDAR
VERSION:2.0
PRODID:-//hacksw/handcal//NONSGML v1.0//EN
BEGIN:VEVENT
DTSTART:20241212T123000Z
DTEND:20241212T200000Z
LOCATION:Campus CentraleSupelec \n3, Rue Joliot Curie \n91190 GIF-SUR-YVETTE
ORGANIZER;CN=Irina Jaubert - Économie Sociale & Solidaire (CSA):MAILTO:irina.jaubert@mailo.com
SUMMARY:7ème édition Forum Ingénieur.e.s Responsables: contactez l’équipe pour vous inscrire!
DESCRIPTION:Le FIR revient cette année pour la 7ème édition du Forum Ingénieur Responsables "Donner un sens à son métier", le jeudi 12 décembre 2024, sur le campus de Saclay. Avec le programme suivant:13h30-14h30...
URL:https://association.centralesupelec-alumni.com/fr/group/economie-sociale-solidaire-csa/69/calendar/7eme-edition-forum-ingenieur-e-s-responsables-contactez-l-equipe-pour-vous-inscrire/2024/12/12/8329
BEGIN:VALARM
TRIGGER:-P0DT1H0M0S
ACTION:DISPLAY
END:VALARM
END:VEVENT
END:VCALENDAR