BEGIN:VCALENDAR
VERSION:2.0
PRODID:-//hacksw/handcal//NONSGML v1.0//EN
BEGIN:VEVENT
DTSTART:20241121T180000Z
DTEND:20241121T210000Z
LOCATION:La Brouette \nGrand Place \n1000 BRUXELLES
ORGANIZER;CN=Frédéric Misheletti - Belgique (CSA):MAILTO:frederic.misheletti@gmail.com
SUMMARY:Save the Date: Soirée Beaujolais Nouveau 2024
DESCRIPTION:Nous sommes heureux de vous convier à inviter vos réseaux à venir festoyer en notre compagnie et bien sûr avec le plus grand nombre d'entre vous sur la Grand Place de Bruxelles au célèbre...
URL:https://association.centralesupelec-alumni.com/fr/group/belgique-csa/55/calendar/save-the-date-soiree-beaujolais-nouveau-2024/2024/11/21/8328
BEGIN:VALARM
TRIGGER:-P0DT1H0M0S
ACTION:DISPLAY
END:VALARM
END:VEVENT
END:VCALENDAR