BEGIN:VCALENDAR
VERSION:2.0
PRODID:-//hacksw/handcal//NONSGML v1.0//EN
BEGIN:VEVENT
DTSTART:20240930T160000Z
DTEND:20240930T180000Z
LOCATION:Maison des Polytechniciens \n12, Rue de Poitiers \n75007 PARIS
ORGANIZER;CN=Jean-Christophe Strich - Repreneurs (CSA):MAILTO:jc.strich@free.fr
SUMMARY:Repreneurs : Début du 1er cycle de la formation XMP Entrepreneur 2024 : REPRENDRE UNE ENTREPRISE, AVEC OU SANS FONDS D'INVESTISSEMENT  (Copie)
DESCRIPTION:Cher Camarade,la première session de formation organisée par XMP Entrepreneur sur le thème « REPRENDRE UNE ENTREPRISE,\nAVEC OU SANS FONDS D’INVESTISSEMENT » débute le lundi 30 septembre 2024 à 18h à ...
URL:https://association.centralesupelec-alumni.com/fr/group/repreneurs-csa/331/calendar/repreneurs-debut-du-1er-cycle-de-la-formation-xmp-entrepreneur-2024-reprendre-une-entreprise-avec-ou-sans-fonds-d-investissement-copie/2024/09/30/8327
BEGIN:VALARM
TRIGGER:-P0DT1H0M0S
ACTION:DISPLAY
END:VALARM
END:VEVENT
END:VCALENDAR