BEGIN:VCALENDAR
VERSION:2.0
PRODID:-//hacksw/handcal//NONSGML v1.0//EN
BEGIN:VEVENT
DTSTART:20241010T170000Z
DTEND:20241010T180000Z
LOCATION:Maison CentraleSupélec \n8, Rue Jean Goujon \n75008 PARIS
ORGANIZER;CN=CentraleSupélec Alumni:MAILTO:csa-alumni@centralesupelec-alumni.com
SUMMARY:Conférence "Les fondamentaux en immobilier"
DESCRIPTION:CentraleSupélec Alumni a le plaisir de vous inviter à une conférence d'information "Les fondamentaux en immobilier, proposée par Guilhem GILLOT-CALMY (ECP 13), Conseiller en Gestion de...
URL:https://association.centralesupelec-alumni.com/fr/event/conference-les-fondamentaux-en-immobilier/2024/10/10/8315
BEGIN:VALARM
TRIGGER:-P0DT1H0M0S
ACTION:DISPLAY
END:VALARM
END:VEVENT
END:VCALENDAR