BEGIN:VCALENDAR
VERSION:2.0
PRODID:-//hacksw/handcal//NONSGML v1.0//EN
BEGIN:VEVENT
DTSTART:20241010T100000Z
DTEND:20241010T124500Z
LOCATION:Eat Good Place \nHigashi Ikebukuro 4-42, Toshima-ku \n170 Tokyo
ORGANIZER;CN=Laurent Wolff - Japon (CSA):MAILTO:laurent.wolff@centraliens.net
SUMMARY:Tokyo Inter-Grandes-Ecoles gathering
DESCRIPTION:On October 10, from 7pm, we will have a gathering jointly with Essec, HEC, Sciences Po and Polytechnique. We have rented Eat Good Place restaurant in Ikeburo, a great venue with an open view on...
URL:https://association.centralesupelec-alumni.com/fr/group/japon-csa/237/calendar/tokyo-inter-grandes-ecoles-gathering/2024/10/10/8314
BEGIN:VALARM
TRIGGER:-P0DT1H0M0S
ACTION:DISPLAY
END:VALARM
END:VEVENT
END:VCALENDAR