BEGIN:VCALENDAR
VERSION:2.0
PRODID:-//hacksw/handcal//NONSGML v1.0//EN
BEGIN:VEVENT
DTSTART:20241017T150000Z
DTEND:20241019T230000Z
LOCATION:New York
ORGANIZER;CN=Alain Raynaud - USA (CSA):MAILTO:alain@fairsoftware.net
SUMMARY:Centrale Alumni Days 2024
DESCRIPTION:Les Alumni Days 2024 sont le grand rendez-vous annuel de tous les anciens Centrale, CentraleSupelec et autres Ecoles Centrales aux Etats-Unis. Cette année, nous nous retrouvons a New York, du 17 au 19...
URL:https://association.centralesupelec-alumni.com/fr/group/usa-csa/209/calendar/centrale-alumni-days-2024/2024/10/17/8305
BEGIN:VALARM
TRIGGER:-P0DT1H0M0S
ACTION:DISPLAY
END:VALARM
END:VEVENT
END:VCALENDAR