BEGIN:VCALENDAR
VERSION:2.0
PRODID:-//hacksw/handcal//NONSGML v1.0//EN
BEGIN:VEVENT
DTSTART:20241016T163000Z
DTEND:20241016T193000Z
LOCATION:Bistrot les Petits Pavés \n40, Rue des Hauts Pavés \n44000 NANTES
ORGANIZER;CN=Guillaume Landru - Ouest-Atlantique (CSA):MAILTO:guillaume.landru@gmail.com
SUMMARY:Travailler dans l'Ouest le 16 octobre 2024
DESCRIPTION:Bonjour,Suite au succès de l’édition précédente, l'association CentraleSupelec Ouest Atlantique organise, cette année, une deuxième soirée réseau "Travailler et Entreprendre dans l'Ouest" à...
URL:https://association.centralesupelec-alumni.com/fr/group/ouest-atlantique-csa/297/calendar/travailler-dans-l-ouest-le-16-octobre-2024/2024/10/16/8304
BEGIN:VALARM
TRIGGER:-P0DT1H0M0S
ACTION:DISPLAY
END:VALARM
END:VEVENT
END:VCALENDAR