BEGIN:VCALENDAR
VERSION:2.0
PRODID:-//hacksw/handcal//NONSGML v1.0//EN
BEGIN:VEVENT
DTSTART:20241008T163000Z
DTEND:20241008T200000Z
LOCATION:8 rue Jean Goujon \n75008 Paris
ORGANIZER;CN=Albin Jura - Énergie Durable (CSA):MAILTO:albin.jura@gmail.com
SUMMARY:La stratégie mondiale de l'Hydrogène
DESCRIPTION:Le groupe Energie Durable, en association avec l'AIEN, EVOLEN et l'AEE vous invitent à assister à la conférence-débat            La Stratégie Mondiale de l'HydrogèneMardi 8 Octobre à 18h30Dans le...
URL:https://association.centralesupelec-alumni.com/fr/group/energie-durable-csa/323/calendar/-la-strategie-mondiale-de-l-hydrogene/2024/10/08/8286
BEGIN:VALARM
TRIGGER:-P0DT1H0M0S
ACTION:DISPLAY
END:VALARM
END:VEVENT
END:VCALENDAR