BEGIN:VCALENDAR
VERSION:2.0
PRODID:-//hacksw/handcal//NONSGML v1.0//EN
BEGIN:VEVENT
DTSTART:20241127T083000Z
DTEND:20241127T100000Z
LOCATION:Musée Jacquemart-André \n158, Boulevard Haussmann \n75008 PARIS
ORGANIZER;CN=Jacqueline Pasdeloup - CSA Ile de France:MAILTO:jacqueline@asso-supelec.org
SUMMARY:PRÉ-INSCRIPTION : Exposition « Chefs-d'œuvre de la Galerie Borghèse » au musée Jacquemart-André
DESCRIPTION:\nATTENTION : IL S'AGIT DE PRÉ-INSCRIPTION\nVOTRE INSCRIPTION AVEC VOTRE PAIEMENT \nSERONT À FAIRE UNE FOIS L'ÉVÈNEMENT PUBLIÉ\nChers amis,\nNous vous proposons la visite guidée « Chefs d'oeuvre de la...
URL:https://association.centralesupelec-alumni.com/fr/group/csa-ile-de-france/587/calendar/pre-inscription-exposition-chefs-d-oeuvre-de-la-galerie-borghese-au-musee-jacquemart-andre/2024/11/27/8271
BEGIN:VALARM
TRIGGER:-P0DT1H0M0S
ACTION:DISPLAY
END:VALARM
END:VEVENT
END:VCALENDAR