BEGIN:VCALENDAR
VERSION:2.0
PRODID:-//hacksw/handcal//NONSGML v1.0//EN
BEGIN:VEVENT
DTSTART:20241007T083000Z
DTEND:20241007T103000Z
LOCATION:Musée national de la Marine \nPlace du Trocadéro  \n75116 PARIS
ORGANIZER;CN=Jacqueline Pasdeloup - CSA Ile de France:MAILTO:jacqueline@asso-supelec.org
SUMMARY:Visite guidée  des collections permanentes du musée de la Marine
DESCRIPTION:Crédit photo : © Musée national de la Marine / D. Lanctuit\nLe musée national de la Marine possède l’une des plus belles et plus anciennes collections au monde, qui retrace plus de 250 ans d’histoires...
URL:https://association.centralesupelec-alumni.com/fr/group/csa-ile-de-france/587/calendar/visite-guidee-des-collections-permanentes-du-musee-de-la-marine/2024/10/07/8265
BEGIN:VALARM
TRIGGER:-P0DT1H0M0S
ACTION:DISPLAY
END:VALARM
END:VEVENT
END:VCALENDAR