BEGIN:VCALENDAR
VERSION:2.0
PRODID:-//hacksw/handcal//NONSGML v1.0//EN
BEGIN:VEVENT
DTSTART:20241019T160000Z
DTEND:20241020T010000Z
LOCATION:211 \n211, Avenue Jean Jaurès \n75019 PARIS
ORGANIZER;CN=Yann Giret:MAILTO:yann.giret@gmail.com
SUMMARY::sparkles: Décabang :sparkles:  - 10ans de la P2014
DESCRIPTION:Profitez d'une soirée unique au 211 entièrement privatisé pour nous ! Programme de la soirée : 18h - 20h : Les retrouvailles  20h : Direct NX  20h30 : Repas  22h - 3h : Bang animé par DJ Chuob \nLe...
URL:https://association.centralesupelec-alumni.com/fr/event/-sparkles-decabang-sparkles-10ans-de-la-p2014/2024/10/19/8260
BEGIN:VALARM
TRIGGER:-P0DT1H0M0S
ACTION:DISPLAY
END:VALARM
END:VEVENT
END:VCALENDAR