BEGIN:VCALENDAR
VERSION:2.0
PRODID:-//hacksw/handcal//NONSGML v1.0//EN
BEGIN:VEVENT
DTSTART:20250121T090000Z
DTEND:20250201T100000Z
LOCATION:CAMBODGE
ORGANIZER;CN=Jean-Jacques Henry - CSA Ile de France:MAILTO:jjghenry@gmail.com
SUMMARY:VOYAGE AU CAMBODGE
DESCRIPTION:               Circuit du 21 janvier  au 1er février 2025  au Cambodge                                 Inscrivez vous avant le 10  juillet 2024 Le Cambodge, pays au riche héritage, nous fascine grâce ...
URL:https://association.centralesupelec-alumni.com/fr/group/csa-ile-de-france/587/calendar/voyage-au-cambodge/2025/01/21/8255
BEGIN:VALARM
TRIGGER:-P0DT1H0M0S
ACTION:DISPLAY
END:VALARM
END:VEVENT
END:VCALENDAR